BEGIN:VCALENDAR
VERSION:2.0
PRODID:-//Canterbury and District Early Years Project - ECPv6.15.17.1//NONSGML v1.0//EN
CALSCALE:GREGORIAN
METHOD:PUBLISH
X-ORIGINAL-URL:https://poets-corner.org.uk/wpress
X-WR-CALDESC:Events for Canterbury and District Early Years Project
REFRESH-INTERVAL;VALUE=DURATION:PT1H
X-Robots-Tag:noindex
X-PUBLISHED-TTL:PT1H
BEGIN:VTIMEZONE
TZID:Europe/London
BEGIN:DAYLIGHT
TZOFFSETFROM:+0000
TZOFFSETTO:+0100
TZNAME:BST
DTSTART:20240331T010000
END:DAYLIGHT
BEGIN:STANDARD
TZOFFSETFROM:+0100
TZOFFSETTO:+0000
TZNAME:GMT
DTSTART:20241027T010000
END:STANDARD
BEGIN:DAYLIGHT
TZOFFSETFROM:+0000
TZOFFSETTO:+0100
TZNAME:BST
DTSTART:20250330T010000
END:DAYLIGHT
BEGIN:STANDARD
TZOFFSETFROM:+0100
TZOFFSETTO:+0000
TZNAME:GMT
DTSTART:20251026T010000
END:STANDARD
BEGIN:DAYLIGHT
TZOFFSETFROM:+0000
TZOFFSETTO:+0100
TZNAME:BST
DTSTART:20260329T010000
END:DAYLIGHT
BEGIN:STANDARD
TZOFFSETFROM:+0100
TZOFFSETTO:+0000
TZNAME:GMT
DTSTART:20261025T010000
END:STANDARD
END:VTIMEZONE
BEGIN:VEVENT
DTSTART;TZID=Europe/London:20250303T093000
DTEND;TZID=Europe/London:20250303T103000
DTSTAMP:20260421T150931
CREATED:20250213T141109Z
LAST-MODIFIED:20250213T141111Z
UID:1879-1740994200-1740997800@poets-corner.org.uk
SUMMARY:Rhythm & Rhyme
DESCRIPTION:
URL:https://poets-corner.org.uk/wpress/event/rhythm-rhyme-2/
END:VEVENT
BEGIN:VEVENT
DTSTART;TZID=Europe/London:20250303T110000
DTEND;TZID=Europe/London:20250303T121500
DTSTAMP:20260421T150931
CREATED:20250213T141214Z
LAST-MODIFIED:20250213T141215Z
UID:1882-1740999600-1741004100@poets-corner.org.uk
SUMMARY:Baby Group
DESCRIPTION:
URL:https://poets-corner.org.uk/wpress/event/baby-group-39/
END:VEVENT
BEGIN:VEVENT
DTSTART;TZID=Europe/London:20250303T124500
DTEND;TZID=Europe/London:20250303T140000
DTSTAMP:20260421T150931
CREATED:20250213T141316Z
LAST-MODIFIED:20250213T141318Z
UID:1885-1741005900-1741010400@poets-corner.org.uk
SUMMARY:Baby Group
DESCRIPTION:
URL:https://poets-corner.org.uk/wpress/event/baby-group-40/
END:VEVENT
END:VCALENDAR