BEGIN:VCALENDAR
VERSION:2.0
PRODID:-//Canterbury and District Early Years Project - ECPv6.15.17.1//NONSGML v1.0//EN
CALSCALE:GREGORIAN
METHOD:PUBLISH
X-WR-CALNAME:Canterbury and District Early Years Project
X-ORIGINAL-URL:https://poets-corner.org.uk/wpress
X-WR-CALDESC:Events for Canterbury and District Early Years Project
REFRESH-INTERVAL;VALUE=DURATION:PT1H
X-Robots-Tag:noindex
X-PUBLISHED-TTL:PT1H
BEGIN:VTIMEZONE
TZID:Europe/London
BEGIN:DAYLIGHT
TZOFFSETFROM:+0000
TZOFFSETTO:+0100
TZNAME:BST
DTSTART:20240331T010000
END:DAYLIGHT
BEGIN:STANDARD
TZOFFSETFROM:+0100
TZOFFSETTO:+0000
TZNAME:GMT
DTSTART:20241027T010000
END:STANDARD
BEGIN:DAYLIGHT
TZOFFSETFROM:+0000
TZOFFSETTO:+0100
TZNAME:BST
DTSTART:20250330T010000
END:DAYLIGHT
BEGIN:STANDARD
TZOFFSETFROM:+0100
TZOFFSETTO:+0000
TZNAME:GMT
DTSTART:20251026T010000
END:STANDARD
BEGIN:DAYLIGHT
TZOFFSETFROM:+0000
TZOFFSETTO:+0100
TZNAME:BST
DTSTART:20260329T010000
END:DAYLIGHT
BEGIN:STANDARD
TZOFFSETFROM:+0100
TZOFFSETTO:+0000
TZNAME:GMT
DTSTART:20261025T010000
END:STANDARD
END:VTIMEZONE
BEGIN:VEVENT
DTSTART;TZID=Europe/London:20250311T093000
DTEND;TZID=Europe/London:20250311T110000
DTSTAMP:20260421T134456
CREATED:20250213T143544Z
LAST-MODIFIED:20250213T143545Z
UID:1911-1741685400-1741690800@poets-corner.org.uk
SUMMARY:Chartham Stay & Play
DESCRIPTION:
URL:https://poets-corner.org.uk/wpress/event/chartham-stay-play-3/
END:VEVENT
BEGIN:VEVENT
DTSTART;TZID=Europe/London:20250311T093000
DTEND;TZID=Europe/London:20250311T113000
DTSTAMP:20260421T134456
CREATED:20250224T124222Z
LAST-MODIFIED:20250224T124223Z
UID:2020-1741685400-1741692600@poets-corner.org.uk
SUMMARY:Storysacks
DESCRIPTION:
URL:https://poets-corner.org.uk/wpress/event/storysacks-3/
LOCATION:Poets Corner\, Poets Corner\, Canterbury\, CT1 1EA
END:VEVENT
BEGIN:VEVENT
DTSTART;TZID=Europe/London:20250311T124500
DTEND;TZID=Europe/London:20250311T140000
DTSTAMP:20260421T134456
CREATED:20250213T143656Z
LAST-MODIFIED:20250213T143658Z
UID:1914-1741697100-1741701600@poets-corner.org.uk
SUMMARY:Toddling Tots
DESCRIPTION:
URL:https://poets-corner.org.uk/wpress/event/toddling-tots-22/
END:VEVENT
END:VCALENDAR