BEGIN:VCALENDAR
VERSION:2.0
PRODID:-//Canterbury and District Early Years Project - ECPv6.15.17.1//NONSGML v1.0//EN
CALSCALE:GREGORIAN
METHOD:PUBLISH
X-ORIGINAL-URL:https://poets-corner.org.uk/wpress
X-WR-CALDESC:Events for Canterbury and District Early Years Project
REFRESH-INTERVAL;VALUE=DURATION:PT1H
X-Robots-Tag:noindex
X-PUBLISHED-TTL:PT1H
BEGIN:VTIMEZONE
TZID:Europe/London
BEGIN:DAYLIGHT
TZOFFSETFROM:+0000
TZOFFSETTO:+0100
TZNAME:BST
DTSTART:20240331T010000
END:DAYLIGHT
BEGIN:STANDARD
TZOFFSETFROM:+0100
TZOFFSETTO:+0000
TZNAME:GMT
DTSTART:20241027T010000
END:STANDARD
BEGIN:DAYLIGHT
TZOFFSETFROM:+0000
TZOFFSETTO:+0100
TZNAME:BST
DTSTART:20250330T010000
END:DAYLIGHT
BEGIN:STANDARD
TZOFFSETFROM:+0100
TZOFFSETTO:+0000
TZNAME:GMT
DTSTART:20251026T010000
END:STANDARD
BEGIN:DAYLIGHT
TZOFFSETFROM:+0000
TZOFFSETTO:+0100
TZNAME:BST
DTSTART:20260329T010000
END:DAYLIGHT
BEGIN:STANDARD
TZOFFSETFROM:+0100
TZOFFSETTO:+0000
TZNAME:GMT
DTSTART:20261025T010000
END:STANDARD
END:VTIMEZONE
BEGIN:VEVENT
DTSTART;TZID=Europe/London:20250312T093000
DTEND;TZID=Europe/London:20250312T110000
DTSTAMP:20260421T134618
CREATED:20250213T145722Z
LAST-MODIFIED:20250213T145723Z
UID:1922-1741771800-1741777200@poets-corner.org.uk
SUMMARY:Stay & Play
DESCRIPTION:
URL:https://poets-corner.org.uk/wpress/event/stay-play-36/
END:VEVENT
BEGIN:VEVENT
DTSTART;TZID=Europe/London:20250312T120000
DTEND;TZID=Europe/London:20250312T133000
DTSTAMP:20260421T134618
CREATED:20250213T145904Z
LAST-MODIFIED:20250213T145906Z
UID:1924-1741780800-1741786200@poets-corner.org.uk
SUMMARY:Stay & Play
DESCRIPTION:
URL:https://poets-corner.org.uk/wpress/event/stay-play-37/
END:VEVENT
END:VCALENDAR