BEGIN:VCALENDAR
VERSION:2.0
PRODID:-//Canterbury and District Early Years Project - ECPv6.15.17.1//NONSGML v1.0//EN
CALSCALE:GREGORIAN
METHOD:PUBLISH
X-ORIGINAL-URL:https://poets-corner.org.uk/wpress
X-WR-CALDESC:Events for Canterbury and District Early Years Project
REFRESH-INTERVAL;VALUE=DURATION:PT1H
X-Robots-Tag:noindex
X-PUBLISHED-TTL:PT1H
BEGIN:VTIMEZONE
TZID:Europe/London
BEGIN:DAYLIGHT
TZOFFSETFROM:+0000
TZOFFSETTO:+0100
TZNAME:BST
DTSTART:20240331T010000
END:DAYLIGHT
BEGIN:STANDARD
TZOFFSETFROM:+0100
TZOFFSETTO:+0000
TZNAME:GMT
DTSTART:20241027T010000
END:STANDARD
BEGIN:DAYLIGHT
TZOFFSETFROM:+0000
TZOFFSETTO:+0100
TZNAME:BST
DTSTART:20250330T010000
END:DAYLIGHT
BEGIN:STANDARD
TZOFFSETFROM:+0100
TZOFFSETTO:+0000
TZNAME:GMT
DTSTART:20251026T010000
END:STANDARD
BEGIN:DAYLIGHT
TZOFFSETFROM:+0000
TZOFFSETTO:+0100
TZNAME:BST
DTSTART:20260329T010000
END:DAYLIGHT
BEGIN:STANDARD
TZOFFSETFROM:+0100
TZOFFSETTO:+0000
TZNAME:GMT
DTSTART:20261025T010000
END:STANDARD
END:VTIMEZONE
BEGIN:VEVENT
DTSTART;TZID=Europe/London:20250313T093000
DTEND;TZID=Europe/London:20250313T113000
DTSTAMP:20260421T134659
CREATED:20250224T131939Z
LAST-MODIFIED:20250224T131940Z
UID:2040-1741858200-1741865400@poets-corner.org.uk
SUMMARY:Back to Basics Cooking
DESCRIPTION:
URL:https://poets-corner.org.uk/wpress/event/back-to-basics-cooking-3/
LOCATION:Poets Corner\, 11a South Street\, Canterbury
END:VEVENT
BEGIN:VEVENT
DTSTART;TZID=Europe/London:20250313T123000
DTEND;TZID=Europe/London:20250313T143000
DTSTAMP:20260421T134659
CREATED:20250219T133020Z
LAST-MODIFIED:20250219T133022Z
UID:2006-1741869000-1741876200@poets-corner.org.uk
SUMMARY:Wellbeing For You
DESCRIPTION:2 week course focusing on you & your own wellbeing
URL:https://poets-corner.org.uk/wpress/event/wellbeing-for-you-3/
LOCATION:Poets Corner\, 11a South Street\, Canterbury
END:VEVENT
END:VCALENDAR