BEGIN:VCALENDAR
VERSION:2.0
PRODID:-//Canterbury and District Early Years Project - ECPv6.15.17.1//NONSGML v1.0//EN
CALSCALE:GREGORIAN
METHOD:PUBLISH
X-ORIGINAL-URL:https://poets-corner.org.uk/wpress
X-WR-CALDESC:Events for Canterbury and District Early Years Project
REFRESH-INTERVAL;VALUE=DURATION:PT1H
X-Robots-Tag:noindex
X-PUBLISHED-TTL:PT1H
BEGIN:VTIMEZONE
TZID:Europe/London
BEGIN:DAYLIGHT
TZOFFSETFROM:+0000
TZOFFSETTO:+0100
TZNAME:BST
DTSTART:20240331T010000
END:DAYLIGHT
BEGIN:STANDARD
TZOFFSETFROM:+0100
TZOFFSETTO:+0000
TZNAME:GMT
DTSTART:20241027T010000
END:STANDARD
BEGIN:DAYLIGHT
TZOFFSETFROM:+0000
TZOFFSETTO:+0100
TZNAME:BST
DTSTART:20250330T010000
END:DAYLIGHT
BEGIN:STANDARD
TZOFFSETFROM:+0100
TZOFFSETTO:+0000
TZNAME:GMT
DTSTART:20251026T010000
END:STANDARD
BEGIN:DAYLIGHT
TZOFFSETFROM:+0000
TZOFFSETTO:+0100
TZNAME:BST
DTSTART:20260329T010000
END:DAYLIGHT
BEGIN:STANDARD
TZOFFSETFROM:+0100
TZOFFSETTO:+0000
TZNAME:GMT
DTSTART:20261025T010000
END:STANDARD
END:VTIMEZONE
BEGIN:VEVENT
DTSTART;TZID=Europe/London:20250317T093000
DTEND;TZID=Europe/London:20250317T103000
DTSTAMP:20260421T134459
CREATED:20250213T145600Z
LAST-MODIFIED:20250213T150335Z
UID:1919-1742203800-1742207400@poets-corner.org.uk
SUMMARY:Rhythm & Rhyme
DESCRIPTION:
URL:https://poets-corner.org.uk/wpress/event/rhythm-rhyme-4/
END:VEVENT
BEGIN:VEVENT
DTSTART;TZID=Europe/London:20250317T110000
DTEND;TZID=Europe/London:20250317T121500
DTSTAMP:20260421T134459
CREATED:20250213T150546Z
LAST-MODIFIED:20250213T150548Z
UID:1926-1742209200-1742213700@poets-corner.org.uk
SUMMARY:Baby Group
DESCRIPTION:
URL:https://poets-corner.org.uk/wpress/event/baby-group-43/
END:VEVENT
BEGIN:VEVENT
DTSTART;TZID=Europe/London:20250317T124500
DTEND;TZID=Europe/London:20250317T140000
DTSTAMP:20260421T134459
CREATED:20250213T150643Z
LAST-MODIFIED:20250213T150645Z
UID:1929-1742215500-1742220000@poets-corner.org.uk
SUMMARY:Baby Group
DESCRIPTION:
URL:https://poets-corner.org.uk/wpress/event/baby-group-44/
END:VEVENT
END:VCALENDAR