BEGIN:VCALENDAR
VERSION:2.0
PRODID:-//Canterbury and District Early Years Project - ECPv6.15.17.1//NONSGML v1.0//EN
CALSCALE:GREGORIAN
METHOD:PUBLISH
X-ORIGINAL-URL:https://poets-corner.org.uk/wpress
X-WR-CALDESC:Events for Canterbury and District Early Years Project
REFRESH-INTERVAL;VALUE=DURATION:PT1H
X-Robots-Tag:noindex
X-PUBLISHED-TTL:PT1H
BEGIN:VTIMEZONE
TZID:Europe/London
BEGIN:DAYLIGHT
TZOFFSETFROM:+0000
TZOFFSETTO:+0100
TZNAME:BST
DTSTART:20240331T010000
END:DAYLIGHT
BEGIN:STANDARD
TZOFFSETFROM:+0100
TZOFFSETTO:+0000
TZNAME:GMT
DTSTART:20241027T010000
END:STANDARD
BEGIN:DAYLIGHT
TZOFFSETFROM:+0000
TZOFFSETTO:+0100
TZNAME:BST
DTSTART:20250330T010000
END:DAYLIGHT
BEGIN:STANDARD
TZOFFSETFROM:+0100
TZOFFSETTO:+0000
TZNAME:GMT
DTSTART:20251026T010000
END:STANDARD
BEGIN:DAYLIGHT
TZOFFSETFROM:+0000
TZOFFSETTO:+0100
TZNAME:BST
DTSTART:20260329T010000
END:DAYLIGHT
BEGIN:STANDARD
TZOFFSETFROM:+0100
TZOFFSETTO:+0000
TZNAME:GMT
DTSTART:20261025T010000
END:STANDARD
END:VTIMEZONE
BEGIN:VEVENT
DTSTART;TZID=Europe/London:20250325T093000
DTEND;TZID=Europe/London:20250325T110000
DTSTAMP:20260421T134619
CREATED:20250219T124132Z
LAST-MODIFIED:20250219T124135Z
UID:1947-1742895000-1742900400@poets-corner.org.uk
SUMMARY:Chartham Stay & Play
DESCRIPTION:
URL:https://poets-corner.org.uk/wpress/event/chartham-stay-play-5/
END:VEVENT
BEGIN:VEVENT
DTSTART;TZID=Europe/London:20250325T093000
DTEND;TZID=Europe/London:20250325T113000
DTSTAMP:20260421T134619
CREATED:20250224T125050Z
LAST-MODIFIED:20250224T125052Z
UID:2024-1742895000-1742902200@poets-corner.org.uk
SUMMARY:Storysacks
DESCRIPTION:
URL:https://poets-corner.org.uk/wpress/event/storysacks-5/
LOCATION:Poets Corner\, 11a South Street\, Canterbury
END:VEVENT
BEGIN:VEVENT
DTSTART;TZID=Europe/London:20250325T124500
DTEND;TZID=Europe/London:20250325T140000
DTSTAMP:20260421T134619
CREATED:20250219T124247Z
LAST-MODIFIED:20250219T124253Z
UID:1950-1742906700-1742911200@poets-corner.org.uk
SUMMARY:Toddling Tots
DESCRIPTION:
URL:https://poets-corner.org.uk/wpress/event/toddling-tots-24/
END:VEVENT
END:VCALENDAR