BEGIN:VCALENDAR
VERSION:2.0
PRODID:-//Canterbury and District Early Years Project - ECPv6.15.17.1//NONSGML v1.0//EN
CALSCALE:GREGORIAN
METHOD:PUBLISH
X-ORIGINAL-URL:https://poets-corner.org.uk/wpress
X-WR-CALDESC:Events for Canterbury and District Early Years Project
REFRESH-INTERVAL;VALUE=DURATION:PT1H
X-Robots-Tag:noindex
X-PUBLISHED-TTL:PT1H
BEGIN:VTIMEZONE
TZID:Europe/London
BEGIN:DAYLIGHT
TZOFFSETFROM:+0000
TZOFFSETTO:+0100
TZNAME:BST
DTSTART:20240331T010000
END:DAYLIGHT
BEGIN:STANDARD
TZOFFSETFROM:+0100
TZOFFSETTO:+0000
TZNAME:GMT
DTSTART:20241027T010000
END:STANDARD
BEGIN:DAYLIGHT
TZOFFSETFROM:+0000
TZOFFSETTO:+0100
TZNAME:BST
DTSTART:20250330T010000
END:DAYLIGHT
BEGIN:STANDARD
TZOFFSETFROM:+0100
TZOFFSETTO:+0000
TZNAME:GMT
DTSTART:20251026T010000
END:STANDARD
BEGIN:DAYLIGHT
TZOFFSETFROM:+0000
TZOFFSETTO:+0100
TZNAME:BST
DTSTART:20260329T010000
END:DAYLIGHT
BEGIN:STANDARD
TZOFFSETFROM:+0100
TZOFFSETTO:+0000
TZNAME:GMT
DTSTART:20261025T010000
END:STANDARD
END:VTIMEZONE
BEGIN:VEVENT
DTSTART;TZID=Europe/London:20250403T093000
DTEND;TZID=Europe/London:20250403T113000
DTSTAMP:20260421T134500
CREATED:20250224T132119Z
LAST-MODIFIED:20250224T132121Z
UID:2046-1743672600-1743679800@poets-corner.org.uk
SUMMARY:Back to Basics Cooking
DESCRIPTION:
URL:https://poets-corner.org.uk/wpress/event/back-to-basics-cooking-6/
END:VEVENT
BEGIN:VEVENT
DTSTART;TZID=Europe/London:20250403T123000
DTEND;TZID=Europe/London:20250403T143000
DTSTAMP:20260421T134500
CREATED:20250219T132630Z
LAST-MODIFIED:20250219T132632Z
UID:2003-1743683400-1743690600@poets-corner.org.uk
SUMMARY:Spring Crafts
DESCRIPTION:
URL:https://poets-corner.org.uk/wpress/event/spring-crafts/
LOCATION:Poets Corner\, 11a South Street\, Canterbury
END:VEVENT
END:VCALENDAR