BEGIN:VCALENDAR
VERSION:2.0
PRODID:-//Canterbury and District Early Years Project - ECPv6.15.17.1//NONSGML v1.0//EN
CALSCALE:GREGORIAN
METHOD:PUBLISH
X-ORIGINAL-URL:https://poets-corner.org.uk/wpress
X-WR-CALDESC:Events for Canterbury and District Early Years Project
REFRESH-INTERVAL;VALUE=DURATION:PT1H
X-Robots-Tag:noindex
X-PUBLISHED-TTL:PT1H
BEGIN:VTIMEZONE
TZID:Europe/London
BEGIN:DAYLIGHT
TZOFFSETFROM:+0000
TZOFFSETTO:+0100
TZNAME:BST
DTSTART:20240331T010000
END:DAYLIGHT
BEGIN:STANDARD
TZOFFSETFROM:+0100
TZOFFSETTO:+0000
TZNAME:GMT
DTSTART:20241027T010000
END:STANDARD
BEGIN:DAYLIGHT
TZOFFSETFROM:+0000
TZOFFSETTO:+0100
TZNAME:BST
DTSTART:20250330T010000
END:DAYLIGHT
BEGIN:STANDARD
TZOFFSETFROM:+0100
TZOFFSETTO:+0000
TZNAME:GMT
DTSTART:20251026T010000
END:STANDARD
BEGIN:DAYLIGHT
TZOFFSETFROM:+0000
TZOFFSETTO:+0100
TZNAME:BST
DTSTART:20260329T010000
END:DAYLIGHT
BEGIN:STANDARD
TZOFFSETFROM:+0100
TZOFFSETTO:+0000
TZNAME:GMT
DTSTART:20261025T010000
END:STANDARD
END:VTIMEZONE
BEGIN:VEVENT
DTSTART;TZID=Europe/London:20250922T093000
DTEND;TZID=Europe/London:20250922T103000
DTSTAMP:20260421T150051
CREATED:20250806T124834Z
LAST-MODIFIED:20250806T124836Z
UID:2597-1758533400-1758537000@poets-corner.org.uk
SUMMARY:Rhythm & Rhyme
DESCRIPTION:
URL:https://poets-corner.org.uk/wpress/event/rhythm-rhyme-19/
LOCATION:Poets Corner\, 11a South Street\, Canterbury
ORGANIZER;CN="Canterbury & District Early Years Project":MAILTO:admin@poets-corner.org.uk
END:VEVENT
BEGIN:VEVENT
DTSTART;TZID=Europe/London:20250922T110000
DTEND;TZID=Europe/London:20250922T121500
DTSTAMP:20260421T150051
CREATED:20250806T130212Z
LAST-MODIFIED:20250806T130214Z
UID:2618-1758538800-1758543300@poets-corner.org.uk
SUMMARY:Baby Group
DESCRIPTION:
URL:https://poets-corner.org.uk/wpress/event/baby-group-72/
LOCATION:Poets Corner\, 11a South Street\, Canterbury
ORGANIZER;CN="Canterbury & District Early Years Project":MAILTO:admin@poets-corner.org.uk
END:VEVENT
BEGIN:VEVENT
DTSTART;TZID=Europe/London:20250922T124500
DTEND;TZID=Europe/London:20250922T140000
DTSTAMP:20260421T150051
CREATED:20250902T111319Z
LAST-MODIFIED:20250902T111321Z
UID:2647-1758545100-1758549600@poets-corner.org.uk
SUMMARY:Baby Group
DESCRIPTION:
URL:https://poets-corner.org.uk/wpress/event/baby-group-78/
LOCATION:Poets Corner\, 11a South Street\, Canterbury
ORGANIZER;CN="Canterbury & District Early Years Project":MAILTO:admin@poets-corner.org.uk
END:VEVENT
END:VCALENDAR