BEGIN:VCALENDAR
VERSION:2.0
PRODID:-//Canterbury and District Early Years Project - ECPv6.15.17.1//NONSGML v1.0//EN
CALSCALE:GREGORIAN
METHOD:PUBLISH
X-ORIGINAL-URL:https://poets-corner.org.uk/wpress
X-WR-CALDESC:Events for Canterbury and District Early Years Project
REFRESH-INTERVAL;VALUE=DURATION:PT1H
X-Robots-Tag:noindex
X-PUBLISHED-TTL:PT1H
BEGIN:VTIMEZONE
TZID:Europe/London
BEGIN:DAYLIGHT
TZOFFSETFROM:+0000
TZOFFSETTO:+0100
TZNAME:BST
DTSTART:20240331T010000
END:DAYLIGHT
BEGIN:STANDARD
TZOFFSETFROM:+0100
TZOFFSETTO:+0000
TZNAME:GMT
DTSTART:20241027T010000
END:STANDARD
BEGIN:DAYLIGHT
TZOFFSETFROM:+0000
TZOFFSETTO:+0100
TZNAME:BST
DTSTART:20250330T010000
END:DAYLIGHT
BEGIN:STANDARD
TZOFFSETFROM:+0100
TZOFFSETTO:+0000
TZNAME:GMT
DTSTART:20251026T010000
END:STANDARD
BEGIN:DAYLIGHT
TZOFFSETFROM:+0000
TZOFFSETTO:+0100
TZNAME:BST
DTSTART:20260329T010000
END:DAYLIGHT
BEGIN:STANDARD
TZOFFSETFROM:+0100
TZOFFSETTO:+0000
TZNAME:GMT
DTSTART:20261025T010000
END:STANDARD
END:VTIMEZONE
BEGIN:VEVENT
DTSTART;TZID=Europe/London:20250924T093000
DTEND;TZID=Europe/London:20250924T110000
DTSTAMP:20260421T150930
CREATED:20250905T065326Z
LAST-MODIFIED:20250905T065328Z
UID:2703-1758706200-1758711600@poets-corner.org.uk
SUMMARY:Stay & Play
DESCRIPTION:
URL:https://poets-corner.org.uk/wpress/event/stay-play-60/
LOCATION:Poets Corner\, 11a South Street\, Canterbury
ORGANIZER;CN="Canterbury & District Early Years Project":MAILTO:admin@poets-corner.org.uk
END:VEVENT
BEGIN:VEVENT
DTSTART;TZID=Europe/London:20250924T120000
DTEND;TZID=Europe/London:20250924T133000
DTSTAMP:20260421T150930
CREATED:20250905T070417Z
LAST-MODIFIED:20250905T070419Z
UID:2721-1758715200-1758720600@poets-corner.org.uk
SUMMARY:Stay & Play
DESCRIPTION:
URL:https://poets-corner.org.uk/wpress/event/stay-play-72/
LOCATION:Poets Corner\, 11a South Street\, Canterbury
ORGANIZER;CN="Canterbury & District Early Years Project":MAILTO:admin@poets-corner.org.uk
END:VEVENT
END:VCALENDAR