BEGIN:VCALENDAR
VERSION:2.0
PRODID:-//Canterbury and District Early Years Project - ECPv6.15.17.1//NONSGML v1.0//EN
CALSCALE:GREGORIAN
METHOD:PUBLISH
X-ORIGINAL-URL:https://poets-corner.org.uk/wpress
X-WR-CALDESC:Events for Canterbury and District Early Years Project
REFRESH-INTERVAL;VALUE=DURATION:PT1H
X-Robots-Tag:noindex
X-PUBLISHED-TTL:PT1H
BEGIN:VTIMEZONE
TZID:Europe/London
BEGIN:DAYLIGHT
TZOFFSETFROM:+0000
TZOFFSETTO:+0100
TZNAME:BST
DTSTART:20240331T010000
END:DAYLIGHT
BEGIN:STANDARD
TZOFFSETFROM:+0100
TZOFFSETTO:+0000
TZNAME:GMT
DTSTART:20241027T010000
END:STANDARD
BEGIN:DAYLIGHT
TZOFFSETFROM:+0000
TZOFFSETTO:+0100
TZNAME:BST
DTSTART:20250330T010000
END:DAYLIGHT
BEGIN:STANDARD
TZOFFSETFROM:+0100
TZOFFSETTO:+0000
TZNAME:GMT
DTSTART:20251026T010000
END:STANDARD
BEGIN:DAYLIGHT
TZOFFSETFROM:+0000
TZOFFSETTO:+0100
TZNAME:BST
DTSTART:20260329T010000
END:DAYLIGHT
BEGIN:STANDARD
TZOFFSETFROM:+0100
TZOFFSETTO:+0000
TZNAME:GMT
DTSTART:20261025T010000
END:STANDARD
END:VTIMEZONE
BEGIN:VEVENT
DTSTART;TZID=Europe/London:20251117T093000
DTEND;TZID=Europe/London:20251117T103000
DTSTAMP:20260421T145038
CREATED:20251106T135653Z
LAST-MODIFIED:20251106T135658Z
UID:3083-1763371800-1763375400@poets-corner.org.uk
SUMMARY:Rhythm & Rhyme
DESCRIPTION:
URL:https://poets-corner.org.uk/wpress/event/rhythm-rhyme-24/
LOCATION:Poets Corner\, 11a South Street\, Canterbury
ORGANIZER;CN="Canterbury & District Early Years Project":MAILTO:admin@poets-corner.org.uk
END:VEVENT
BEGIN:VEVENT
DTSTART;TZID=Europe/London:20251117T110000
DTEND;TZID=Europe/London:20251117T121500
DTSTAMP:20260421T145039
CREATED:20251106T140650Z
LAST-MODIFIED:20251106T140653Z
UID:3101-1763377200-1763381700@poets-corner.org.uk
SUMMARY:Baby Group
DESCRIPTION:
URL:https://poets-corner.org.uk/wpress/event/baby-group-2/
LOCATION:Poets Corner\, 11a South Street\, Canterbury
ORGANIZER;CN="Canterbury & District Early Years Project":MAILTO:admin@poets-corner.org.uk
END:VEVENT
BEGIN:VEVENT
DTSTART;TZID=Europe/London:20251117T124500
DTEND;TZID=Europe/London:20251117T140000
DTSTAMP:20260421T145039
CREATED:20251106T142041Z
LAST-MODIFIED:20251106T142044Z
UID:3120-1763383500-1763388000@poets-corner.org.uk
SUMMARY:Baby Group
DESCRIPTION:
URL:https://poets-corner.org.uk/wpress/event/baby-group-8/
LOCATION:Poets Corner\, 11a South Street\, Canterbury
ORGANIZER;CN="Canterbury & District Early Years Project":MAILTO:admin@poets-corner.org.uk
END:VEVENT
END:VCALENDAR