BEGIN:VCALENDAR
VERSION:2.0
PRODID:-//Canterbury and District Early Years Project - ECPv6.15.17.1//NONSGML v1.0//EN
CALSCALE:GREGORIAN
METHOD:PUBLISH
X-WR-CALNAME:Canterbury and District Early Years Project
X-ORIGINAL-URL:https://poets-corner.org.uk/wpress
X-WR-CALDESC:Events for Canterbury and District Early Years Project
REFRESH-INTERVAL;VALUE=DURATION:PT1H
X-Robots-Tag:noindex
X-PUBLISHED-TTL:PT1H
BEGIN:VTIMEZONE
TZID:Europe/London
BEGIN:DAYLIGHT
TZOFFSETFROM:+0000
TZOFFSETTO:+0100
TZNAME:BST
DTSTART:20240331T010000
END:DAYLIGHT
BEGIN:STANDARD
TZOFFSETFROM:+0100
TZOFFSETTO:+0000
TZNAME:GMT
DTSTART:20241027T010000
END:STANDARD
BEGIN:DAYLIGHT
TZOFFSETFROM:+0000
TZOFFSETTO:+0100
TZNAME:BST
DTSTART:20250330T010000
END:DAYLIGHT
BEGIN:STANDARD
TZOFFSETFROM:+0100
TZOFFSETTO:+0000
TZNAME:GMT
DTSTART:20251026T010000
END:STANDARD
BEGIN:DAYLIGHT
TZOFFSETFROM:+0000
TZOFFSETTO:+0100
TZNAME:BST
DTSTART:20260329T010000
END:DAYLIGHT
BEGIN:STANDARD
TZOFFSETFROM:+0100
TZOFFSETTO:+0000
TZNAME:GMT
DTSTART:20261025T010000
END:STANDARD
END:VTIMEZONE
BEGIN:VEVENT
DTSTART;TZID=Europe/London:20251118T093000
DTEND;TZID=Europe/London:20251118T110000
DTSTAMP:20260421T145110
CREATED:20251103T110700Z
LAST-MODIFIED:20251103T110703Z
UID:2973-1763458200-1763463600@poets-corner.org.uk
SUMMARY:Chartham Stay & Play
DESCRIPTION:
URL:https://poets-corner.org.uk/wpress/event/chartham-stay-play-25/
LOCATION:Chartham Village Hall\, Station Rd\, Chartham\, Canterbury\, CT4 7JA\, United Kingdom
ORGANIZER;CN="Canterbury & District Early Years Project":MAILTO:admin@poets-corner.org.uk
END:VEVENT
BEGIN:VEVENT
DTSTART;TZID=Europe/London:20251118T124500
DTEND;TZID=Europe/London:20251118T140000
DTSTAMP:20260421T145110
CREATED:20251103T113454Z
LAST-MODIFIED:20251103T113459Z
UID:2990-1763469900-1763474400@poets-corner.org.uk
SUMMARY:Toddling Tots
DESCRIPTION:
URL:https://poets-corner.org.uk/wpress/event/toddling-tots-3/
LOCATION:Poets Corner\, 11a South Street\, Canterbury
ORGANIZER;CN="Canterbury & District Early Years Project":MAILTO:admin@poets-corner.org.uk
END:VEVENT
END:VCALENDAR