BEGIN:VCALENDAR
VERSION:2.0
PRODID:-//Canterbury and District Early Years Project - ECPv6.15.17.1//NONSGML v1.0//EN
CALSCALE:GREGORIAN
METHOD:PUBLISH
X-WR-CALNAME:Canterbury and District Early Years Project
X-ORIGINAL-URL:https://poets-corner.org.uk/wpress
X-WR-CALDESC:Events for Canterbury and District Early Years Project
REFRESH-INTERVAL;VALUE=DURATION:PT1H
X-Robots-Tag:noindex
X-PUBLISHED-TTL:PT1H
BEGIN:VTIMEZONE
TZID:Europe/London
BEGIN:DAYLIGHT
TZOFFSETFROM:+0000
TZOFFSETTO:+0100
TZNAME:BST
DTSTART:20240331T010000
END:DAYLIGHT
BEGIN:STANDARD
TZOFFSETFROM:+0100
TZOFFSETTO:+0000
TZNAME:GMT
DTSTART:20241027T010000
END:STANDARD
BEGIN:DAYLIGHT
TZOFFSETFROM:+0000
TZOFFSETTO:+0100
TZNAME:BST
DTSTART:20250330T010000
END:DAYLIGHT
BEGIN:STANDARD
TZOFFSETFROM:+0100
TZOFFSETTO:+0000
TZNAME:GMT
DTSTART:20251026T010000
END:STANDARD
BEGIN:DAYLIGHT
TZOFFSETFROM:+0000
TZOFFSETTO:+0100
TZNAME:BST
DTSTART:20260329T010000
END:DAYLIGHT
BEGIN:STANDARD
TZOFFSETFROM:+0100
TZOFFSETTO:+0000
TZNAME:GMT
DTSTART:20261025T010000
END:STANDARD
END:VTIMEZONE
BEGIN:VEVENT
DTSTART;TZID=Europe/London:20250911T093000
DTEND;TZID=Europe/London:20250911T113000
DTSTAMP:20260421T180533
CREATED:20250911T130917Z
LAST-MODIFIED:20250911T130920Z
UID:2775-1757583000-1757590200@poets-corner.org.uk
SUMMARY:Incredible Years
DESCRIPTION:A programme supporting parents/carers of children aged 2 to 12 who would like to develop their skills looking at different aspects of parenting such as\, emotions\, behaviours\, routines\, boundaries\, rules\, limit setting.  For further information please call or text 07816 853 574.
URL:https://poets-corner.org.uk/wpress/event/incredible-years/
LOCATION:Poets Corner\, 11a South Street\, Canterbury
ORGANIZER;CN="Canterbury & District Early Years Project":MAILTO:admin@poets-corner.org.uk
END:VEVENT
BEGIN:VEVENT
DTSTART;TZID=Europe/London:20250910T120000
DTEND;TZID=Europe/London:20250910T133000
DTSTAMP:20260421T180533
CREATED:20250905T070158Z
LAST-MODIFIED:20250905T070201Z
UID:2715-1757505600-1757511000@poets-corner.org.uk
SUMMARY:Stay & Play
DESCRIPTION:
URL:https://poets-corner.org.uk/wpress/event/stay-play-70/
LOCATION:Poets Corner\, 11a South Street\, Canterbury
ORGANIZER;CN="Canterbury & District Early Years Project":MAILTO:admin@poets-corner.org.uk
END:VEVENT
BEGIN:VEVENT
DTSTART;TZID=Europe/London:20250910T093000
DTEND;TZID=Europe/London:20250910T110000
DTSTAMP:20260421T180533
CREATED:20250905T065058Z
LAST-MODIFIED:20250905T065101Z
UID:2697-1757496600-1757502000@poets-corner.org.uk
SUMMARY:Stay & Play
DESCRIPTION:
URL:https://poets-corner.org.uk/wpress/event/stay-play-52/
LOCATION:Poets Corner\, 11a South Street\, Canterbury
ORGANIZER;CN="Canterbury & District Early Years Project":MAILTO:admin@poets-corner.org.uk
END:VEVENT
BEGIN:VEVENT
DTSTART;TZID=Europe/London:20250909T124500
DTEND;TZID=Europe/London:20250909T140000
DTSTAMP:20260421T180533
CREATED:20250902T115522Z
LAST-MODIFIED:20250902T115524Z
UID:2679-1757421900-1757426400@poets-corner.org.uk
SUMMARY:Toddling Tots
DESCRIPTION:
URL:https://poets-corner.org.uk/wpress/event/toddling-tots-38/
LOCATION:Poets Corner\, 11a South Street\, Canterbury
ORGANIZER;CN="Canterbury & District Early Years Project":MAILTO:admin@poets-corner.org.uk
END:VEVENT
BEGIN:VEVENT
DTSTART;TZID=Europe/London:20250909T093000
DTEND;TZID=Europe/London:20250909T110000
DTSTAMP:20260421T180533
CREATED:20250902T112633Z
LAST-MODIFIED:20250902T112634Z
UID:2659-1757410200-1757415600@poets-corner.org.uk
SUMMARY:Chartham Stay & Play
DESCRIPTION:
URL:https://poets-corner.org.uk/wpress/event/chartham-stay-play-17/
LOCATION:Chartham Village Hall
ORGANIZER;CN="Canterbury & District Early Years Project":MAILTO:admin@poets-corner.org.uk
END:VEVENT
BEGIN:VEVENT
DTSTART;TZID=Europe/London:20250908T124500
DTEND;TZID=Europe/London:20250908T140000
DTSTAMP:20260421T180533
CREATED:20250902T110703Z
LAST-MODIFIED:20250902T110706Z
UID:2641-1757335500-1757340000@poets-corner.org.uk
SUMMARY:Baby Group
DESCRIPTION:
URL:https://poets-corner.org.uk/wpress/event/baby-group-76/
LOCATION:Poets Corner\, 11a South Street\, Canterbury
ORGANIZER;CN="Canterbury & District Early Years Project":MAILTO:admin@poets-corner.org.uk
END:VEVENT
BEGIN:VEVENT
DTSTART;TZID=Europe/London:20250908T110000
DTEND;TZID=Europe/London:20250908T121500
DTSTAMP:20260421T180533
CREATED:20250806T125917Z
LAST-MODIFIED:20250806T125919Z
UID:2612-1757329200-1757333700@poets-corner.org.uk
SUMMARY:Baby Group
DESCRIPTION:
URL:https://poets-corner.org.uk/wpress/event/baby-group-70/
LOCATION:Poets Corner\, 11a South Street\, Canterbury
ORGANIZER;CN="Canterbury & District Early Years Project":MAILTO:admin@poets-corner.org.uk
END:VEVENT
BEGIN:VEVENT
DTSTART;TZID=Europe/London:20250908T093000
DTEND;TZID=Europe/London:20250908T103000
DTSTAMP:20260421T180533
CREATED:20250806T124538Z
LAST-MODIFIED:20250806T124540Z
UID:2591-1757323800-1757327400@poets-corner.org.uk
SUMMARY:Rhythm & Rhyme
DESCRIPTION:
URL:https://poets-corner.org.uk/wpress/event/rhythm-rhyme-17/
LOCATION:Poets Corner\, Poets Corner\, Canterbury\, CT1 1EA
ORGANIZER;CN="Canterbury & District Early Years Project":MAILTO:admin@poets-corner.org.uk
END:VEVENT
BEGIN:VEVENT
DTSTART;TZID=Europe/London:20250901T110000
DTEND;TZID=Europe/London:20250901T121500
DTSTAMP:20260421T180533
CREATED:20250806T125627Z
LAST-MODIFIED:20250806T125629Z
UID:2609-1756724400-1756728900@poets-corner.org.uk
SUMMARY:Baby Group
DESCRIPTION:
URL:https://poets-corner.org.uk/wpress/event/baby-group-69/
LOCATION:Poets Corner\, 11a South Street\, Canterbury
ORGANIZER;CN="Canterbury & District Early Years Project":MAILTO:admin@poets-corner.org.uk
END:VEVENT
BEGIN:VEVENT
DTSTART;TZID=Europe/London:20250901T093000
DTEND;TZID=Europe/London:20250901T103000
DTSTAMP:20260421T180533
CREATED:20250806T124309Z
LAST-MODIFIED:20250806T124332Z
UID:2587-1756719000-1756722600@poets-corner.org.uk
SUMMARY:Rhythm & Rhyme
DESCRIPTION:Rhythm & Rhyme
URL:https://poets-corner.org.uk/wpress/event/2587/
LOCATION:Poets Corner\, 11a South Street\, Canterbury
ORGANIZER;CN="Canterbury & District Early Years Project":MAILTO:admin@poets-corner.org.uk
END:VEVENT
BEGIN:VEVENT
DTSTART;TZID=Europe/London:20250813T093000
DTEND;TZID=Europe/London:20250813T110000
DTSTAMP:20260421T180533
CREATED:20250703T125255Z
LAST-MODIFIED:20250703T125258Z
UID:2537-1755077400-1755082800@poets-corner.org.uk
SUMMARY:Summer Stay & Play
DESCRIPTION:
URL:https://poets-corner.org.uk/wpress/event/summer-stay-play-2/
LOCATION:Poets Corner\, Poets Corner\, Canterbury\, CT1 1EA
ORGANIZER;CN="Canterbury & District Early Years Project":MAILTO:admin@poets-corner.org.uk
END:VEVENT
BEGIN:VEVENT
DTSTART;TZID=Europe/London:20250812T093000
DTEND;TZID=Europe/London:20250812T110000
DTSTAMP:20260421T180533
CREATED:20250703T124916Z
LAST-MODIFIED:20250703T124918Z
UID:2531-1754991000-1754996400@poets-corner.org.uk
SUMMARY:Chartham Summer Stay & Play
DESCRIPTION:
URL:https://poets-corner.org.uk/wpress/event/chartham-summer-stay-play-2/
LOCATION:Chartham Village Hall\, Station Rd\, Chartham\, Canterbury\, CT4 7JA\, United Kingdom
ORGANIZER;CN="Canterbury & District Early Years Project":MAILTO:admin@poets-corner.org.uk
END:VEVENT
BEGIN:VEVENT
DTSTART;TZID=Europe/London:20250806T093000
DTEND;TZID=Europe/London:20250806T110000
DTSTAMP:20260421T180533
CREATED:20250703T125120Z
LAST-MODIFIED:20250703T125122Z
UID:2534-1754472600-1754478000@poets-corner.org.uk
SUMMARY:Summer Stay & Play
DESCRIPTION:
URL:https://poets-corner.org.uk/wpress/event/summer-stay-play/
LOCATION:Poets Corner\, 11a South Street\, Canterbury
ORGANIZER;CN="Canterbury & District Early Years Project":MAILTO:admin@poets-corner.org.uk
END:VEVENT
BEGIN:VEVENT
DTSTART;TZID=Europe/London:20250805T093000
DTEND;TZID=Europe/London:20250805T110000
DTSTAMP:20260421T180533
CREATED:20250703T124745Z
LAST-MODIFIED:20250703T124747Z
UID:2528-1754386200-1754391600@poets-corner.org.uk
SUMMARY:Chartham Summer Stay & Play
DESCRIPTION:
URL:https://poets-corner.org.uk/wpress/event/chartham-summer-stay-play/
LOCATION:Chartham Village Hall\, Station Rd\, Chartham\, Canterbury\, CT4 7JA\, United Kingdom
ORGANIZER;CN="Canterbury & District Early Years Project":MAILTO:admin@poets-corner.org.uk
END:VEVENT
BEGIN:VEVENT
DTSTART;TZID=Europe/London:20250715T124500
DTEND;TZID=Europe/London:20250715T140000
DTSTAMP:20260421T180533
CREATED:20250515T142322Z
LAST-MODIFIED:20250515T142324Z
UID:2371-1752583500-1752588000@poets-corner.org.uk
SUMMARY:Toddling Tots
DESCRIPTION:
URL:https://poets-corner.org.uk/wpress/event/toddling-tots-37/
LOCATION:Poets Corner\, 11a South Street\, Canterbury
ORGANIZER;CN="Canterbury & District Early Years Project":MAILTO:admin@poets-corner.org.uk
END:VEVENT
BEGIN:VEVENT
DTSTART;TZID=Europe/London:20250714T124500
DTEND;TZID=Europe/London:20250714T140000
DTSTAMP:20260421T180533
CREATED:20250515T120929Z
LAST-MODIFIED:20250515T120932Z
UID:2321-1752497100-1752501600@poets-corner.org.uk
SUMMARY:Baby Group
DESCRIPTION:
URL:https://poets-corner.org.uk/wpress/event/baby-group-68/
LOCATION:Poets Corner\, 11a South Street\, Canterbury
ORGANIZER;CN="Canterbury & District Early Years Project":MAILTO:admin@poets-corner.org.uk
END:VEVENT
BEGIN:VEVENT
DTSTART;TZID=Europe/London:20250714T110000
DTEND;TZID=Europe/London:20250714T121500
DTSTAMP:20260421T180533
CREATED:20250515T114006Z
LAST-MODIFIED:20250515T114009Z
UID:2299-1752490800-1752495300@poets-corner.org.uk
SUMMARY:Baby Group
DESCRIPTION:
URL:https://poets-corner.org.uk/wpress/event/baby-group-61/
LOCATION:Poets Corner\, 11a South Street\, Canterbury
ORGANIZER;CN="Canterbury & District Early Years Project":MAILTO:admin@poets-corner.org.uk
END:VEVENT
BEGIN:VEVENT
DTSTART;TZID=Europe/London:20250714T093000
DTEND;TZID=Europe/London:20250714T103000
DTSTAMP:20260421T180533
CREATED:20250515T110526Z
LAST-MODIFIED:20250515T110528Z
UID:2275-1752485400-1752489000@poets-corner.org.uk
SUMMARY:Rhythm & Rhyme
DESCRIPTION:
URL:https://poets-corner.org.uk/wpress/event/rhythm-rhyme-16/
LOCATION:Poets Corner\, 11a South Street\, Canterbury
ORGANIZER;CN="Canterbury & District Early Years Project":MAILTO:admin@poets-corner.org.uk
END:VEVENT
BEGIN:VEVENT
DTSTART;TZID=Europe/London:20250606T093000
DTEND;TZID=Europe/London:20250606T110000
DTSTAMP:20260421T180533
CREATED:20250515T100043Z
LAST-MODIFIED:20250515T100045Z
UID:2254-1749202200-1749207600@poets-corner.org.uk
SUMMARY:Breakfast Group
DESCRIPTION:
URL:https://poets-corner.org.uk/wpress/event/breakfast-group/
LOCATION:Poets Corner\, 11a South Street\, Canterbury
ORGANIZER;CN="Canterbury & District Early Years Project":MAILTO:admin@poets-corner.org.uk
END:VEVENT
BEGIN:VEVENT
DTSTART;TZID=Europe/London:20250605T123000
DTEND;TZID=Europe/London:20250605T143000
DTSTAMP:20260421T180533
CREATED:20250515T131757Z
LAST-MODIFIED:20250515T132430Z
UID:2348-1749126600-1749133800@poets-corner.org.uk
SUMMARY:Speakeasy
DESCRIPTION:A 6 week course give you the tools and techniques to be able to talk to your children about the birds and the bees in an age appropriate way. \n\n\n\nTo book a place please text Heidi on 07816 853 574.
URL:https://poets-corner.org.uk/wpress/event/speakeasy/
LOCATION:Poets Corner\, Poets Corner\, Canterbury\, CT1 1EA
ORGANIZER;CN="Canterbury & District Early Years Project":MAILTO:admin@poets-corner.org.uk
END:VEVENT
BEGIN:VEVENT
DTSTART;TZID=Europe/London:20250605T093000
DTEND;TZID=Europe/London:20250605T113000
DTSTAMP:20260421T180533
CREATED:20250515T131034Z
LAST-MODIFIED:20250515T132555Z
UID:2345-1749115800-1749123000@poets-corner.org.uk
SUMMARY:Back To Basics Cooking
DESCRIPTION:An introduction to basic recipes\, budgeting\, store cupboard\, taste testing\, all food made you will be taking home. \n\n\n\nTo book a place please text Heidi on 07816 853 574.
URL:https://poets-corner.org.uk/wpress/event/back-to-basics-cooking-7/
LOCATION:Poets Corner\, 11a South Street\, Canterbury
ORGANIZER;CN="Canterbury & District Early Years Project":MAILTO:admin@poets-corner.org.uk
END:VEVENT
BEGIN:VEVENT
DTSTART;TZID=Europe/London:20250709T120000
DTEND;TZID=Europe/London:20250709T133000
DTSTAMP:20260421T180533
CREATED:20250516T092649Z
LAST-MODIFIED:20250516T092650Z
UID:2413-1752062400-1752067800@poets-corner.org.uk
SUMMARY:Stay & Play
DESCRIPTION:
URL:https://poets-corner.org.uk/wpress/event/stay-play-66/
LOCATION:Poets Corner\, 11a South Street\, Canterbury
ORGANIZER;CN="Canterbury & District Early Years Project":MAILTO:admin@poets-corner.org.uk
END:VEVENT
BEGIN:VEVENT
DTSTART;TZID=Europe/London:20250709T093000
DTEND;TZID=Europe/London:20250709T110000
DTSTAMP:20260421T180533
CREATED:20250516T085836Z
LAST-MODIFIED:20250516T085839Z
UID:2392-1752053400-1752058800@poets-corner.org.uk
SUMMARY:Stay & Play
DESCRIPTION:
URL:https://poets-corner.org.uk/wpress/event/stay-play-59/
LOCATION:Poets Corner\, 11a South Street\, Canterbury
ORGANIZER;CN="Canterbury & District Early Years Project":MAILTO:admin@poets-corner.org.uk
END:VEVENT
BEGIN:VEVENT
DTSTART;TZID=Europe/London:20250708T124500
DTEND;TZID=Europe/London:20250708T140000
DTSTAMP:20260421T180533
CREATED:20250515T142025Z
LAST-MODIFIED:20250515T142027Z
UID:2368-1751978700-1751983200@poets-corner.org.uk
SUMMARY:Toddling Tots
DESCRIPTION:
URL:https://poets-corner.org.uk/wpress/event/toddling-tots-36/
LOCATION:Poets Corner\, 11a South Street\, Canterbury
ORGANIZER;CN="Canterbury & District Early Years Project":MAILTO:admin@poets-corner.org.uk
END:VEVENT
BEGIN:VEVENT
DTSTART;TZID=Europe/London:20250603T093000
DTEND;TZID=Europe/London:20250603T113000
DTSTAMP:20260421T180533
CREATED:20250515T124719Z
LAST-MODIFIED:20250515T132710Z
UID:2342-1748943000-1748950200@poets-corner.org.uk
SUMMARY:Songsack Course
DESCRIPTION:A chance to make and create your own Songsack all materials included. \n\n\n\nTo book a place please text Heidi on 07816 853 574.
URL:https://poets-corner.org.uk/wpress/event/songsack-course-4/
LOCATION:Poets Corner\, Poets Corner\, Canterbury\, CT1 1EA
ORGANIZER;CN="Canterbury & District Early Years Project":MAILTO:admin@poets-corner.org.uk
END:VEVENT
BEGIN:VEVENT
DTSTART;TZID=Europe/London:20250708T093000
DTEND;TZID=Europe/London:20250708T110000
DTSTAMP:20260421T180533
CREATED:20250515T124229Z
LAST-MODIFIED:20250515T124231Z
UID:2339-1751967000-1751972400@poets-corner.org.uk
SUMMARY:Chartham Stay & Play
DESCRIPTION:
URL:https://poets-corner.org.uk/wpress/event/chartham-stay-play-16/
LOCATION:Chartham Village Hall\, Station Rd\, Chartham\, Canterbury\, CT4 7JA\, United Kingdom
ORGANIZER;CN="Canterbury & District Early Years Project":MAILTO:admin@poets-corner.org.uk
END:VEVENT
BEGIN:VEVENT
DTSTART;TZID=Europe/London:20250707T124500
DTEND;TZID=Europe/London:20250707T140000
DTSTAMP:20260421T180533
CREATED:20250515T120815Z
LAST-MODIFIED:20250515T120817Z
UID:2318-1751892300-1751896800@poets-corner.org.uk
SUMMARY:Baby Group
DESCRIPTION:
URL:https://poets-corner.org.uk/wpress/event/baby-group-67/
LOCATION:Poets Corner\, 11a South Street\, Canterbury
ORGANIZER;CN="Canterbury & District Early Years Project":MAILTO:admin@poets-corner.org.uk
END:VEVENT
BEGIN:VEVENT
DTSTART;TZID=Europe/London:20250707T110000
DTEND;TZID=Europe/London:20250707T121500
DTSTAMP:20260421T180533
CREATED:20250515T113846Z
LAST-MODIFIED:20250515T113847Z
UID:2296-1751886000-1751890500@poets-corner.org.uk
SUMMARY:Baby Group
DESCRIPTION:
URL:https://poets-corner.org.uk/wpress/event/baby-group-60/
LOCATION:Poets Corner\, 11a South Street\, Canterbury
ORGANIZER;CN="Canterbury & District Early Years Project":MAILTO:admin@poets-corner.org.uk
END:VEVENT
BEGIN:VEVENT
DTSTART;TZID=Europe/London:20250707T093000
DTEND;TZID=Europe/London:20250707T103000
DTSTAMP:20260421T180533
CREATED:20250515T110400Z
LAST-MODIFIED:20250515T110403Z
UID:2272-1751880600-1751884200@poets-corner.org.uk
SUMMARY:Rhythm & Rhyme
DESCRIPTION:
URL:https://poets-corner.org.uk/wpress/event/rhythm-rhyme-15/
LOCATION:Poets Corner\, 11a South Street\, Canterbury
ORGANIZER;CN="Canterbury & District Early Years Project":MAILTO:admin@poets-corner.org.uk
END:VEVENT
BEGIN:VEVENT
DTSTART;TZID=Europe/London:20250613T120000
DTEND;TZID=Europe/London:20250613T130000
DTSTAMP:20260421T180533
CREATED:20250516T075956Z
LAST-MODIFIED:20250516T075958Z
UID:2374-1749816000-1749819600@poets-corner.org.uk
SUMMARY:Infant Massage
DESCRIPTION:A 4 week course suitable for babies from 8 weeks. \n\n\n\nTo book a place please text Heidi on  07816 853 574
URL:https://poets-corner.org.uk/wpress/event/infant-massage-8/
LOCATION:Poets Corner\, Poets Corner\, Canterbury\, CT1 1EA
ORGANIZER;CN="Canterbury & District Early Years Project":MAILTO:admin@poets-corner.org.uk
END:VEVENT
END:VCALENDAR